BEGIN:VCALENDAR
VERSION:2.0
PRODID:-//Barbara Asimakopoulou - ECPv6.2.8.1//NONSGML v1.0//EN
CALSCALE:GREGORIAN
METHOD:PUBLISH
X-WR-CALNAME:Barbara Asimakopoulou
X-ORIGINAL-URL:https://www.barbaraasimakopoulou.com/el/
X-WR-CALDESC:Events for Barbara Asimakopoulou
REFRESH-INTERVAL;VALUE=DURATION:PT1H
X-Robots-Tag:noindex
X-PUBLISHED-TTL:PT1H
BEGIN:VTIMEZONE
TZID:Europe/Athens
BEGIN:DAYLIGHT
TZOFFSETFROM:+0200
TZOFFSETTO:+0300
TZNAME:EEST
DTSTART:20260329T010000
END:DAYLIGHT
BEGIN:STANDARD
TZOFFSETFROM:+0300
TZOFFSETTO:+0200
TZNAME:EET
DTSTART:20261025T010000
END:STANDARD
END:VTIMEZONE
BEGIN:VEVENT
DTSTART;TZID=Europe/Athens:20260401T000000
DTEND;TZID=Europe/Athens:20260531T000000
DTSTAMP:20260426T013634
CREATED:20260406T144540Z
LAST-MODIFIED:20260407T104634Z
UID:11947-1775001600-1780185600@www.barbaraasimakopoulou.com
SUMMARY:Your Time of Power
DESCRIPTION:[vc_row][vc_column]\n    ΔΗΛΩΣΕ ΣΥΜΜΕΤΟΧΗ\n    [vc_column_text] \nYour Time of Power 2026 –  EmpowerThem in Self-Care: Body\, Mind & Soul\n🔹 Πληροφορίες & Οδηγίες Συμμετοχής \nΣτην παρακάτω ενότητα θα βρείτε όλες τις απαραίτητες πληροφορίες και τις λεπτομέρειες για το πρόγραμμα “EmpowerThem in Self-Care”. \nΑν ενδιαφέρεσαι να συμμετάσχεις\, πάτα το Επόμενο και συμπλήρωσε τη φόρμα για να εξασφαλίσεις τη θέση σου! 🚀 \n🔹 Information & Participation Guidelines \nIn the section below\, you will find all the essential details and information about the “EmpowerThem in Self-Care” program. \nIf you’re interested in participating\, click Next and fill out the form to secure your spot! 🚀 \nPlease find the English invitation below. \n——————————————————————————————————- \nΠρόσκληση Συμμετοχής στο  “Your Time of Power 2026 EmpowerThem in Self-Care: Body\, Mind & Soul \nΓια 7η συνεχόμενη χρονιά\, η εθελοντική πρωτοβουλία “YOUR TIME OF POWER” προσφέρει μια δωρεάν εθελοντική δράση coaching\, που φέτος εστιάζει στην ανάγκη για αυτοφροντίδα. \n«Πολλοί άνθρωποι φροντίζουν τα πάντα γύρω τους και αφήνουν τον εαυτό τους τελευταίο. Φέτος\, το Your Time of Power ανοίγει χώρο για κάτι ουσιαστικό: την αυτοφροντίδα ως πράξη δύναμης.» \nΥπoστηρίζουμε τους ανθρώπους που θέλουν να επανασυνδεθούν με τον εαυτό τους και να Φροντίσουν το σώμα \,τον νου και την ψυχή τους με τρόπο που να τους ταιριάζει πραγματικά. \n🔹 Τι περιλαμβάνει το πρόγραμμα; \n✔️ Έρευνα για τις προκλήσεις \n ✔️ Δύο δωρεάν coaching συνεδρίες   45 λεπτών η μία\, εξατομικευμένες στις ανάγκες των συμμετεχόντων \n✔️ Ένα δωρεάν εξειδικευμένο workshop για την αυτοφροντίδα\,  ισορροπία και ανθεκτικότητα στις 30 Σεπτεμβρίου 2026. \nΜε τη συνεργασία εθελοντών Coaches\, οι συμμετέχοντες θα έχουν την ευκαιρία να: \n✅ Βάλουν για λίγο τον εαυτό τους στο επίκεντρο\, χωρίς ενοχές\n✅ Ξεκαθαρίσουν σκέψεις για το πως φροντίζουν τον εαυτό τους σε κάθε διάσταση\n✅ Διαχειρίζονται την καθημερινότητά τους χωρίς να ξεχνάνε να φροντίσουν τον εαυτό τους\n✅ Ενισχύσουν τη φωνή τους και να θέτουν όρια σε σχέση με τον εαυτό τους\n✅ Νιώσουν μεγαλύτερη ηρεμία και εσωτερική σταθερότητα \nΧρονοδιάγραμμα Δράσεων    Your Time of Power 2026. Empower Them in Self-care: Body\, Mind & Soul  \n📌 Έναρξη & Δήλωση Συμμετοχών: Απρίλιος 2026\n📌 Υλοποίηση Coaching Συνεδριών: Μάιος – Ιούνιος 2026\n📌 Ειδικό Workshop:   30 Σεπτεμβρίου 2026 \nΓιατί να συμμετέχετε; \nΗ δράση “Your Time of Power 2026” αποτελεί μια ουσιαστική πρωτοβουλία που αναγνωρίζει και στηρίζει τους ανθρώπους που θέλουν να επανασυνδεθούν με τον εαυτό τους και να Φροντίσουν το σώμα τον νου και την ψυχή τους. \nΜε τη στήριξη της κοινότητας των V.I.P. – Visionary Innovative Powerful Coaches\, που αποτελείται από τελειοφοίτους σπουδαστές\, αποφοίτους\, εκπαιδευτές και συμμετέχοντες της σχολής coaching της HRE\, φιλοδοξούμε να δημιουργήσουμε έναν ασφαλή και υποστηρικτικό χώρο\, όπου μπορείτε να σταματήσετε για λίγο\, να επανασυνδεθείτε με τον εαυτό σας και να ενισχύσετε τη φωνή και την εσωτερική σας σταθερότητα. \nΓιατί η φροντίδα δεν είναι μόνο προς τα έξω — ξεκινά και από μέσα. \n📩 Πληροφορίες\n📞 Τηλέφωνο: 210 8160255\n📧 Email: yourtimeofpower@gmail.com \n📍 Επικοινωνία: \n🔹Άννα Κηρύκου\, YTOP & Alumni Ambassador\, Facilitator +30 6948 003 104 \n🔹Κέλυ Παναγιωτοπούλου  YTOP Ambassador\,  Co-Facilitaror +30 6944 227 930 \n🔹Barbara Asimakopoulou\, Philosophical Coaching Program Director & CEO HRE\, +30 6937 444 118 \nΓίνε κι εσύ μέρος αυτής της μοναδικής πρωτοβουλίας και κάνε το επόμενο βήμα στην αυτοφροντίδα σου  συμπληρώνοντας την παρακάτω φόρμα! 💡💼✨[/vc_column_text][/vc_column][vc_column]\n    ΔΗΛΩΣΕ ΣΥΜΜΕΤΟΧΗ\n    [/vc_column][/vc_row]
URL:https://www.barbaraasimakopoulou.com/el/event/your-time-of-power/
CATEGORIES:coaching,Coaching,Event,event in home page
ATTACH;FMTTYPE=image/png:https://cdn.barbaraasimakopoulou.com/uploads/2026/04/Your-Time-of-Power-2026-site-event-1200-x-630-px.png
END:VEVENT
BEGIN:VEVENT
DTSTART;TZID=Europe/Athens:20260426T190000
DTEND;TZID=Europe/Athens:20260426T210000
DTSTAMP:20260426T013634
CREATED:20260406T142913Z
LAST-MODIFIED:20260407T103609Z
UID:11927-1777230000-1777237200@www.barbaraasimakopoulou.com
SUMMARY:Παρουσίαση βιβλίου: Καπετάνισσα Πρόσω Ολοταχώς\, της Βαρβάρας Ασημακοπούλου
DESCRIPTION:[vc_row][vc_column][vc_column_text][/vc_column_text][vc_empty_space]\n    ΔΗΛΩΣΕ ΣΥΜΜΕΤΟΧΗ\n    [vc_empty_space][vc_empty_space][vc_column_text] \nΠαρουσίαση βιβλίου: Καπετάνισσα Πρόσω Ολοταχώς\, της Βαρβάρας Ασημακοπούλου\nΠανελλήνιος Όμιλος Ιστιοπλοΐας Ανοικτής Θαλάσσης (ΠΟΙΑΘ)Πειραιάς\, Περιφερειακή Ενότητα Πειραιώς \nSunday\, Apr 26 from 7 pm to 9 pm\n\nOverview\n\n\n\nΠρόσκληση στο πρώτο ταξίδι της Καπετάνισσας \, στην ανοιχτή θάλασσα\, σημείο εκκίνησης ΠΟΙΑΘ\, στον Πειραιά \n\n\nΗ ΠΡΟΣΚΛΗΣΗ\nΗ Καπετάνισσα ξεκινά το πρώτο της ταξίδι και σαλπάρει για την ανοιχτή θάλασσα την Κυριακή 26 Απριλίου στις 19.00.\nΣε προσκαλεί να τη δυναμώσεις με την παρουσία σου και να της δώσεις τις ευχές σου για ούριο άνεμο. \nΜε τη σειρά της\, θα σου διηγηθεί μία από τις ωραιότερες ιστορίες της από τις θάλασσες που έχει διασχίσει μέχρι τώρα. \nΣημείο εκκίνησης: Πανελλήνιος Όμιλος Ιστιοπλοΐας Ανοιχτής Θαλάσσης\, Πειραιάς. \nΣε περιμένω. \nΒαρβάρα Ασημακοπούλου \nΚαι με κρασάκι ατενίζοντας τη θάλασσα το ηλιοβασίλεμα\, διότι οι καπετάνισσες ξέρουν καλά να την απολαμβάνουν! \n\n\n\n\nΤΟ ΒΙΒΛΙΟ\nΕΚΔΟΣΕΙΣ ΑΡΜΟΣ \nΚαπετάνισσα\, Πρόσω Ολοταχώς! \n“Χάρτης Πλεύσης για να κυβερνήσεις με επιτυχία τη ζωή σου” \nΣΧΕΔΙΑΣΕ – ΤΟΛΜΗΣΕ – ΚΑΤΕΚΤΗΣΕ \nΤολμηρή πλοήγηση προς τις νέες κατακτήσεις \nΤο βιβλίο αυτό δεν είναι απλώς ένα εγχειρίδιο προσωπικής ανάπτυξης. Είναι μια πρόσκληση για βαθιά μεταμόρφωση. Ένας χάρτης πλεύσης για κάθε γυναίκα που αποφασίζει να γίνει η Καπετάνισσα της ζωής της. \nΜε λόγο ζωντανό\, γεμάτο αλήθεια\, φροντίδα και σοφία\, η Βαρβάρα Ασημακοπούλου μας απλώνει μπροστά μας έναν δρόμο ελευθερίας και δύναμης\, μας θυμίζει τις αξίες που κρύβουμε μέσα μας και μας δείχνει πώς να τις φέρουμε στο φως. \nΣε μια εποχή αβεβαιότητας\, το βιβλίο αυτό γίνεται σύντροφος\, καθρέφτης και έμπνευση. \n\n\n\n\nΤΙ ΛΕΝΕ ΓΙΑ ΤΟ ΒΙΒΛΙΟ\nΔέσποινα Μουστάκα\, Managing Director\, Maran Gas Maritime Inc. \n«Η Καπετάνισσα δεν αποτελεί απλώς έναν ρόλο· είναι στάση ζωής. Είναι η γυναίκα που τολμά να οραματιστεί\, να σχεδιάσει με αυτογνωσία τη διαδρομή της και να την κατακτήσει με συνέπεια και θάρρος. Σε έναν κόσμο που επί χρόνια περιόριζε τις γυναίκες σε ρόλους και ταμπέλες\, ήρθε η ώρα να ορίσουμε ξανά ποιοι είμαστε και πού θέλουμε να πάμε. Μέσα από βιωματική σοφία\, σύγχρονα πρακτικά εργαλεία ηγεσίας\, η Βαρβάρα Ασημακοπούλου – η πρώτη coach προσωπικής ανάπτυξης και ηγεσίας στην Ελλάδα – προσφέρει ένα εμπνευσμένο “χαρτί πλεύσης” για τη γυναίκα του σήμερα. \nΆννα Διαμαντοπούλου\, Πρόεδρος του ΔΙΚΤΥΟΥ – πρώην Υπουργός & Επίτροπος ΕΕ \n«Στη ζωή και στη διαδρομή κάθε γυναίκας υπάρχουν στιγμές που έρχεται αντιμέτωπη με δυσκολίες \, προκαταλήψεις και στερεότυπα που αφορούν το φύλο της.Η Βαρβάρα σχεδιάζει ένα ταξίδι για τη γυναίκα που θέλει να είναι «καπετάνισσα» σε ότι κάνει. Είναι σημαντικό να είσαι αηδόνι και όχι παγώνι! Αηδόνι σημαίνει ότι ακούγεσαι\, ότι έχεις να πεις σίγουρα κάτι χρήσιμο\, αληθινό που κάνει καλό σε σένα και στους άλλους . Το πόσο δουλεύουμε και πως εκφράζουμε το μήνυμα μας\, βοηθά στο να αφήσουμε ένα αποτύπωμα για τη ζωή μας \, τις σχέσεις μας\, την δουλειά μας\, τις ιδέες μας. \nΜαρία Πατακιούτη\, Director\, People & Culture\, EU\, SE Cluster\, Philip Morris International \nΤο βιβλίο της Βαρβάρας\, ‘’η Καπετάνισσα’’\, είναι κάτι περισσότερο από ένας διάλογος της συγγραφέως με την αναγνώστριά της. Είναι ένα μοίρασμα. Η συγγραφέας ανοίγει την ψυχή της και μας καλεί\, όπως θα μας καλούσε στο σπιτικό της. Και μέσα βρίσκουμε θησαυρούς γνώσης και εμπειρίας που μας ετοιμάζουν ώστε και εμείς με την σειρά μας να ανοίξουμε το δικό μας εσωτερικό διάλογο. Το βιβλίο της Βαρβάρας είναι τόσο όμορφα σχεδιασμένο να μας συντροφεύσει σε αυτήν την προσπάθεια\, αυτό το ταξίδι\, ώστε κάθε Καπετάνισσα\, κάθε μια από εμάς\, να μην χάνει ποτέ τον πολικό της αστέρα. \nΆννα Καραμάνου\, Διδάκτωρ Πολιτικής Επιστήμης και Δημόσιας Διοίκησης ΕΚΠΑ\, πρώην ευρωβουλευτής & Πρόεδρος Επιτροπής FEMM του Ευρωπαϊκού Κοινοβουλίου. \nΗ Βαρβάρα Ασημακοπούλου δείχνει ακριβώς το δρόμο και καταγράφει λεπτομερώς και με παραδείγματα τη μέθοδο που θα ακολουθήσεις για να ξεκλειδώσεις τις ικανότητές σου\, να ενισχύσεις την αυτοπεποίθησή σου και να εκπληρώσεις όλα τα όνειρά σου κατακτώντας το σύμπαν! Πρόκειται για τον απόλυτο οδηγό προς την αυτοεκπλήρωση και την επιτυχία\, μέσα από την ανάδειξη της καλύτερης εκδοχής του εαυτού σου! Το βιβλίο διαβάζεται απνευστί\, γιατί είναι συναρπαστικό\, πρωτότυπο και καλογραμμένο! Δεν έχω διαβάσει άλλο καλύτερο βιβλίο στην κατηγορία του! \n\n\n\n  \n\n\n\n[/vc_column_text][vc_empty_space][vc_empty_space]\n    ΔΗΛΩΣΕ ΣΥΜΜΕΤΟΧΗ\n    [vc_empty_space][vc_empty_space][vc_empty_space][vc_empty_space][/vc_column][/vc_row]
URL:https://www.barbaraasimakopoulou.com/el/event/parousiasi-vivliou-kapetanissa-proso-olotachos-tis-varvaras-asimakopoulou/
LOCATION:Με Φυσική Παρουσία\, 3 Ακτή Δηλαβέρη\, Πειραιάς\, 18533\, Greece
CATEGORIES:event in home page,Feminineship
ATTACH;FMTTYPE=image/png:https://cdn.barbaraasimakopoulou.com/uploads/2026/04/imgi_1_image.png
ORGANIZER;CN="Human Resources Expertise":MAILTO:info@hre.gr
END:VEVENT
END:VCALENDAR