BEGIN:VCALENDAR
VERSION:2.0
PRODID:-//Barbara Asimakopoulou - ECPv6.2.8.1//NONSGML v1.0//EN
CALSCALE:GREGORIAN
METHOD:PUBLISH
X-WR-CALNAME:Barbara Asimakopoulou
X-ORIGINAL-URL:https://www.barbaraasimakopoulou.com/el/
X-WR-CALDESC:Events for Barbara Asimakopoulou
REFRESH-INTERVAL;VALUE=DURATION:PT1H
X-Robots-Tag:noindex
X-PUBLISHED-TTL:PT1H
BEGIN:VTIMEZONE
TZID:Europe/Athens
BEGIN:DAYLIGHT
TZOFFSETFROM:+0200
TZOFFSETTO:+0300
TZNAME:EEST
DTSTART:20220327T010000
END:DAYLIGHT
BEGIN:STANDARD
TZOFFSETFROM:+0300
TZOFFSETTO:+0200
TZNAME:EET
DTSTART:20221030T010000
END:STANDARD
END:VTIMEZONE
BEGIN:VEVENT
DTSTART;TZID=Europe/Athens:20220501T090000
DTEND;TZID=Europe/Athens:20220630T210000
DTSTAMP:20260425T132310
CREATED:20230329T163748Z
LAST-MODIFIED:20230329T163748Z
UID:9329-1651395600-1656622800@www.barbaraasimakopoulou.com
SUMMARY:YOUR TIME OF POWER 2022 - Το Coaching Γέφυρα των Απανταχού Ελλήνων
DESCRIPTION:[vc_row][vc_column][vc_column_text] \n\n\n    Book Here\n     \n[/vc_column_text][vc_empty_space][vc_column_text] \nΕΘΕΛΟΝΤΙΚΗ ΔΡΑΣΗ COACHING“Το Coaching γέφυρα των απανταχού Ελλήνων”“Your Time of Power” 2022 “Η ώρα της Δύναμής σου” \nΓια 3η συνεχόμενη χρονιά\, η πρωτοβουλία “YOUR TIME OF POWER” (YOURTOP) η εθελοντική ομαδική μας δράση coaching υλοποιείται και  έχει αποδέκτες τους/τις απανταχού Έλληνες και Ελληνίδες. \nΣυγκεκριμένα\, μια εθελοντική ομάδα 20 επαγγελματιών Coaches ή Coach ηγετών ενώνουμε όπως και πέρσι τις δυνάμεις μας με σκοπό τη διασύνδεση των απανταχού Ελλήνων και Ελληνίδων με “γέφυρα” το coaching. Στόχος είναι να “γεφυρώσουμε την όποια απόσταση”\, να νοιώσουμε κοντά\, να μοιραστούμε ανησυχίες και προβληματισμούς\, να ενδυναμώσουμε εκείνους/νες που θα επιλέξουν να δοκιμάσουν την εμπειρία των διαδικτυακών συνεδριών Coaching αλλά και να ακουστούν μέσω μιας στοχευμένης έρευνας για τις εμπειρίες και προκλήσεις στις δικές τους αναζητήσεις. \nYOUR TIME OF POWER 2022 – ΧΡΟΝΟΔΙΑΓΡΑΜΜΑ ΔΡΑΣΕΩΝ \n– Έναρξη Δράσης 1 Απριλίου 2022: Προβολή του έργου και αποστολή προσκλήσεων συμμετοχής στους Έλληνες Εξωτερικού. \n– Διεξαγωγή coaching συνεδριών με έναρξη τη “Διεθνή εβδομάδα Coaching” 1  Μαΐου – 30 Ιουνίου 2022. \nΤο εθελοντικό έργο “YOUR TIME OF POWER” (Η ώρα της Δύναμής σου) είναι μια πρωτοβουλία της ενεργούς κοινότητας των VIP Coaches και Coach Ηγετών (στην Ελλάδα και αλλού) που μοιραζόμαστε κοινά οράματα και στόχους για πρόοδο και ευτυχία\, προσωπική και επαγγελματική ανάπτυξη\, κυνηγάμε τα όνειρά μας και ξεπερνάμε τα εμπόδια\, ανεξάρτητα γεωγραφικού τόπου\, με αξιοπρέπεια\, ακεραιότητα\, δύναμη και δημιουργικότητα. \nΗ κοινότητα αυτή περιλαμβάνει τους σπουδαστές\, αποφοίτους και καθηγητές του διαπιστευμένου από την International Coaching Federation-ICF προγράμματος “Coaching Δεξιότητες & Εργαλεία στην Πράξη”. \nΤο YOUR TIME OF POWER πραγματοποιείται για 4η συνεχόμενη χρονιά! Ξεκίνησε το 2020 τη «Διεθνή Εβδομάδα Coaching» με σκοπό την υποστήριξη κλάδων της ελληνικής κοινωνίας και οικονομίας που πλήττονταν. Το 2020 εν μέσω πανδημίας προσφέραμε δωρεάν ενισχυτικές συνεδρίες Coaching σε συνανθρώπους μας των επιχειρήσεων και του κλάδου υγείας και το 2021 στους Εκπαιδευτικούς των νησιών του Αιγαίου και της Κρήτης. Το 2022 ξεκίνησε η δράση μας με τους Έλληνες Εξωτερικού για τους οποίους θα συνεχίσει και το 2023. \nΠΡΟΣΚΛΗΣΗ ΠΡΟΣ ΤΟΥΣ ΕΛΛΗΝΕΣ & ΕΛΛΗΝΙΔΕΣ ΤΟΥ ΕΞΩΤΕΡΙΚΟΥ \nΚαλώς ήρθατε στη σειρά δωρεάν coaching συνεδριών\, αφιερωμένη στους Έλληνες που ζουν στο εξωτερικό και αντιμετωπίζουν προκλήσεις στην προσαρμογή τους.  \nΣύμφωνα με τα στατιστικά στοιχεία\, πολλοί Έλληνες μετανάστες αντιμετωπίζουν δυσκολίες όπως η γλώσσα (60%)\, η αναζήτηση εργασίας (50%) και η ενσωμάτωση στον πολιτισμό της νέας χώρας (40%). \nΑν είσαι Έλληνας/ίδα που ζεις εκτός Ελλάδας για μέχρι 10 χρόνια και αντιμετωπίζεις παρόμοιες προκλήσεις\, είσαι στο σωστό μέρος!  \nΣυμπληρώνοντας τη φόρμα που παρέχουμε\, θα έχεις την ευκαιρία να κερδίσεις πολύτιμες coaching συνεδρίες με εξειδικευμένους coaches\, οι οποίοι θα σε καθοδηγήσουν και θα σε βοηθήσουν να προσαρμοστείς επιτυχώς στη ζωή σου στο εξωτερικό. \nΜη χάσεις αυτή την ευκαιρία να επενδύσεις στον εαυτό σου και να αντιμετωπίσεις αποτελεσματικά τις προκλήσεις της μετανάστευσης. Εμπιστεύσου την εμπειρία των ειδικών μας και ανακάλυψε τις δυνατότητες που κρύβονται μέσα σου.  \nΜαζί\, θα αντιμετωπίσουμε τις προκλήσεις που συναντούν οι Έλληνες μετανάστες και θα σου παρέχουμε τα απαραίτητα εργαλεία για να επιτύχεις τους στόχους σου και να αξιοποιήσεις τις ευκαιρίες που προσφέρει η ζωή στο εξωτερικό. \nΜην περιμένεις άλλο\, συμπλήρωσε τη φόρμα και ξεκίνησε το ταξίδι σου προς την επιτυχία! \nΦΟΡΜΑ ΣΥΜΜΕΤΟΧΗΣ ΣΤΙΣ ΔΩΡΕΑ ΣΥΝΕΔΡΙΕΣ \nΣας προσκαλούμε να απαντήσετε στις ερωτήσεις της έρευνας για σας γνωρίσουμε περισσότερο\, να σας προετοιμάσουμε και να προετοιμαστούμε για τις ατομικές coaching συνεδρίες που θα σας προσφέρουμε (2 συνεδρίες Χ 45 λεπτά η κάθε μία). \nΣτόχος του έργου αυτού είναι να βρείτε τις λύσεις σε ό\,τι σας απασχολεί και να πετύχετε τους στόχους σας στην εργασία και στη ζωή ώστε να γίνετε πιο ευτυχισμένοι στον τόπο που έχετε επιλέξει μέσω της συνεργασίας σας με έναν αξιόπιστο Έλληνα/Ελληνίδα Coach. \nΤο coaching είναι μια διαλεκτική συνεργασία με στόχο να ανακαλύψετε τις λύσεις ο/η ίδιος/α. Δεν είναι εκπαίδευση\, ψυχοθεραπεία ή συμβουλευτική. \nΠΡΟΣΚΛΗΣΗ ΠΡΟΣ ΤΟΥΣ ΥΠΟΣΤΗΡΙΚΤΕΣ ΕΠΙΚΟΙΝΩΝΙΑΣ \nΓια τη διάδοση του έργου αυτού επιθυμούμε συνεργασία με ΜΜΕ ή διαδικτυακές πλατφόρμες\, Ελληνικούς συλλόγους με πρόσβαση σε Έλληνες/νίδες εκτός Ελλάδας και  κάθε άλλο φορέα που εμπνέεται από αυτήν την πρωτοβουλία και έχει τη δυνατότητα να προωθήσει τη δράση. \nΔΗΛΩΣΤΕ ΕΔΩ ΤΗ ΣΥΜΜΕΤΟΧΗ ΣΑΣ ΣΑΝ ΥΠΟΣΤΗΡΙΚΤΗΣ ΕΠΙΚΟΙΝΩΝΙΑΣ \nΠληροφορίες και συμμετοχές: Βαρβάρα Ασημακοπούλου\, +30 210 8160255\, +30 6937 444 118 ba@hre.gr \n[/vc_column_text][vc_video link=”https://youtu.be/7Trgx_3vNi4″ title=”ΜΗΝΥΜΑ ΕΝΑΡΞΗΣ ΤΗΣ ΔΡΑΣΗΣ ΑΠΟ ΤΟΥΣ ΔΕΛΦΟΥΣ- ΒΑΡΒΑΡΑ ΑΣΗΜΑΚΟΠΟΥΛΟΥ”][/vc_column][/vc_row][vc_row][vc_column][vc_column_text] \nΟΙ ΕΘΕΛΟΝΤΕΣ COACHES \n  \n[/vc_column_text]\n	\n		\n						\n							\n			\n						\n							\n			\n						\n							\n			\n						\n							\n			\n						\n							\n			\n						\n							\n			\n						\n					\n						\n							\n			\n						\n							\n			\n						\n							\n			\n						\n							\n			\n						\n							\n			\n						\n							\n			\n						\n							\n			\n						\n							\n			\n						\n							\n			\n						\n							\n			\n						\n							\n			\n						\n							\n			\n						\n							\n			\n						\n							\n				\n[vc_column_text] \nOI ΟΡΓΑΝΩΤΕΣ \n  \n[/vc_column_text]\n	\n		\n						\n					\n						\n						\n[vc_column_text] \nΥΠΟΣΤΗΡΙΚΤΕΣ ΕΠΙΚΟΙΝΩΝΙΑΣ \n[/vc_column_text]\n	\n		\n						\n					\n						\n					\n						\n						\n[/vc_column][/vc_row][vc_column][/vc_column][vc_empty_space][vc_empty_space][vc_column_text] \nΠΡΟΣΚΛΗΣΗ ΠΡΟΣ ΤΟΥΣ ΕΛΛΗΝΕΣ & ΕΛΛΗΝΙΔΕΣ ΤΟΥ ΕΞΩΤΕΡΙΚΟΥΚαλώς ήρθατε στη σειρά δωρεάν coaching συνεδριών\, αφιερωμένη στους Έλληνες που ζουν στο εξωτερικό και αντιμετωπίζουν προκλήσεις στην προσαρμογή τους. \nΣύμφωνα με τα στατιστικά στοιχεία\, πολλοί Έλληνες μετανάστες αντιμετωπίζουν δυσκολίες όπως η γλώσσα (60%)\, η αναζήτηση εργασίας (50%) και η ενσωμάτωση στον πολιτισμό της νέας χώρας (40%). \nΑν είσαι Έλληνας/ίδα που ζεις εκτός Ελλάδας και αντιμετωπίζεις παρόμοιες προκλήσεις\, είσαι στο σωστό μέρος! \nΣυμπληρώνοντας τη φόρμα που παρέχουμε\, θα έχεις την ευκαιρία να κερδίσεις πολύτιμες coaching συνεδρίες με εξειδικευμένους coaches\, οι οποίοι θα σε καθοδηγήσουν και θα σε βοηθήσουν να προσαρμοστείς επιτυχώς στη ζωή σου στο εξωτερικό. \nΜη χάσεις αυτή την ευκαιρία να επενδύσεις στον εαυτό σου και να αντιμετωπίσεις αποτελεσματικά τις προκλήσεις της μετανάστευσης. \nΕμπιστεύσου την εμπειρία των ειδικών μας και ανακάλυψε τις δυνατότητες που κρύβονται μέσα σου. Μαζί\, θα αντιμετωπίσουμε τις προκλήσεις που συναντούν οι Έλληνες μετανάστες και θα σου παρέχουμε τα απαραίτητα εργαλεία για να επιτύχεις τους στόχους σου και να αξιοποιήσεις τις ευκαιρίες που προσφέρει η ζωή στο εξωτερικό. \nΜην περιμένεις άλλο\, συμπλήρωσε τη φόρμα και ξεκίνησε το ταξίδι σου προς την επιτυχία! \nΦΟΡΜΑ ΣΥΜΜΕΤΟΧΗΣ ΣΤΙΣ ΔΩΡΕΑΝ ΣΥΝΕΔΡΙΕΣ \n  \nΠΡΟΣΚΛΗΣΗ ΠΡΟΣ ΤΟΥΣ ΥΠΟΣΤΗΡΙΚΤΕΣ ΕΠΙΚΟΙΝΩΝΙΑΣ \nΓια τη διάδοση του έργου αυτού επιθυμούμε συνεργασία με ΜΜΕ ή διαδικτυακές πλατφόρμες\, Ελληνικούς συλλόγους με πρόσβαση σε Έλληνες/νίδες εκτός Ελλάδας και  κάθε άλλο φορέα που εμπνέεται από αυτήν την πρωτοβουλία και έχει τη δυνατότητα να προωθήσει τη δράση. \nΔΗΛΩΣΤΕ ΕΔΩ ΤΗ ΣΥΜΜΕΤΟΧΗ ΣΑΣ ΣΑΝ ΥΠΟΣΤΗΡΙΚΤΗΣ ΕΠΙΚΟΙΝΩΝΙΑΣ \n  \n[/vc_column_text][vc_column_text] \nΟΡΓΑΝΩΤΗΣHuman Resources Expertise \n“Coaching Skills & Tools in Practice” Training Program ACSTH by ICF \nΤο εθελοντικό έργο “YOUR TIME OF POWER” (Η ώρα της Δύναμής σου) είναι μια πρωτοβουλία της ενεργούς κοινότητας των VIP Coaches και Coach Ηγετών (στην Ελλάδα και αλλού). Η κοινότητα αυτή περιλαμβάνει τους σπουδαστές\, αποφοίτους και καθηγητές του διαπιστευμένου από την International Coaching Federation-ICF προγράμματος “Coaching Δεξιότητες & Εργαλεία στην Πράξη”.  \nΗ ΟΜΑΔΑ ΤΟΥ YOUR TIME OF POWER 2023 \nCOACHES \nΑγγελική ΑχείμαστουΑλεξάνδρα ΚιρέτσηΆννα ΚηρύκουΒαρβάρα ΑσημακοπούλουΔώρα ΛυκάκηΕιρήνη ΚόντραΕιρήνη ΝικολάουΈλενα ΛεκάκηΕλίνα ΔέρμουΈρση Στεφάνου \nΕυθυμία ΓκουντενούδηΕυτυχία Θάλεια ΣταματάκηΈφη ΧρήστουΙωάννης ΓεωργίουΙωάννης ΠατινιώτηςΚριστιάνα ΠρεκεζέΜάνια ΠολέμηΜαρία ΚαρακώσταΜαρία ΧατζηαγγελίδηΠάνος ΜαλακούδηςΠρόδρομος Παπαβασιλείου \nΕΠΙΚΟΥΡΙΚΗ ΥΠΟΣΤΗΡΙΞΗ \nΚοσμάς ΜιχαήλΡοη ΦίλουΈφη ΚρομμύδαΚλαίρη ΒενετσανάκουΕιρήνη ΝικολαιδουΌλγα ΠαπατριανταφύλλουΑσημινα Μπαλάσκα \n  \nΥΠΟΣΤΗΡΙΚΤΕΣ ΕΠΙΚΟΙΝΩΝΙΑΣSkywalker – Stentoras\, vwoman\, voria\, newmoney \n[/vc_column_text]\n    ΔΗΛΩΣΕ ΣΥΜΜΕΤΟΧΗ ΣΤΙΣ ΔΩΡΕΑΝ ΣΥΝΕΔΡΙΕΣ ΕΔΩ\n    [vc_row][vc_column][vc_video link=”https://youtu.be/zBXNUEmWsiA” align=”center” title=”ΤΑ ΟΦΕΛΗ ΤΗΣ ΔΡΑΣΗΣ ΓΙΑ ΤΟΥΣ ΕΛΛΗΝΕΣ ΤΟΥ ΕΞΩΤΕΡΙΚΟΥ- ΠΡΟΔΡΟΜΟΣ ΠΑΠΑΒΑΣΙΛΕΙΟΥ”][/vc_column][/vc_row][vc_row][vc_column][/vc_column][/vc_row][vc_row][vc_column][/vc_column][/vc_row]
URL:https://www.barbaraasimakopoulou.com/el/event/your-time-of-power-2022-to-coaching-gefyra-ton-apantachou-ellinon-2/
LOCATION:ZOOM\, Zoom\, Greece
CATEGORIES:coaching
ATTACH;FMTTYPE=image/jpeg:https://cdn.barbaraasimakopoulou.com/uploads/2022/04/EVENTS-1920-×-1220-px-YOUR-TOP-2022.jpg
ORGANIZER;CN="Human Resources Expertise":MAILTO:info@hre.gr
END:VEVENT
END:VCALENDAR