BEGIN:VCALENDAR
VERSION:2.0
PRODID:-//Barbara Asimakopoulou - ECPv6.2.8.1//NONSGML v1.0//EN
CALSCALE:GREGORIAN
METHOD:PUBLISH
X-ORIGINAL-URL:https://www.barbaraasimakopoulou.com/el/
X-WR-CALDESC:Events for Barbara Asimakopoulou
REFRESH-INTERVAL;VALUE=DURATION:PT1H
X-Robots-Tag:noindex
X-PUBLISHED-TTL:PT1H
BEGIN:VTIMEZONE
TZID:Europe/Athens
BEGIN:DAYLIGHT
TZOFFSETFROM:+0200
TZOFFSETTO:+0300
TZNAME:EEST
DTSTART:20230326T010000
END:DAYLIGHT
BEGIN:STANDARD
TZOFFSETFROM:+0300
TZOFFSETTO:+0200
TZNAME:EET
DTSTART:20231029T010000
END:STANDARD
END:VTIMEZONE
BEGIN:VEVENT
DTSTART;TZID=Europe/Athens:20231111T170000
DTEND;TZID=Europe/Athens:20231111T220000
DTSTAMP:20260424T124624
CREATED:20231113T104853Z
LAST-MODIFIED:20250730T141251Z
UID:10090-1699722000-1699740000@www.barbaraasimakopoulou.com
SUMMARY:Coach Now In House 2023: Share Your Story
DESCRIPTION:[vc_row][vc_column][vc_column_text][/vc_column_text][vc_empty_space][vc_column_text] \nΠες μας την ιστορία σου μετά την εκπαίδευσή σου ως coach.\n  \nΜια εκδήλωση αφιερωμένη στην VIP κοινότητά μας και τους φίλους μας για να γιορτάσουμε τη συμπλήρωση 5 χρόνων coaching εκπαίδευσης.\nΗ έκπληξη της χρονιάς! 5 χρόνια “Coaching Δεξιότητες & Εργαλεία στην Πράξη” διαπιστευμένη από ICF εκπαίδευση. \nΣΤΡΟΓΓΥΛΑ ΤΡΑΠΕΖΙΑ – ΠΑΝΕΛ – ΠΡΟΣΩΠΙΚΕΣ ΙΣΤΟΡΙΕΣ – ΕΜΠΝΕΥΣΤΙΚΗ ΟΜΙΛΙΑ – ΑΠΟΝΟΜΗ ΔΙΠΛΩΜΑΤΩΝ – ΔΩΡΑ – ΠΑΡΤΥ \nΑπόφοιτοι\, καθηγητές\, μαθητές σε στρογγυλά τραπέζια\, σε πάνελς και σε ατομικές παρουσιάσεις μοιράζονται την ιστορία τους και τη διαδρομή τους από τη στιγμή που το coaching μπήκε στη ζωή τους μέχρι σήμερα. \n– Ξεκίνημα\, προκλήσεις\, επιτυχίες\, μαγικές στιγμές\, αξέχαστες δράσεις. \n– Ποιο είναι το μεγαλύτερο μάθημα ζωής που θέλουν να μοιραστούν για να βοηθήσουν κάθε νέο ή παλαιότερο coach. \n– Τι κάνεις σήμερα; \n– Τι προκλήσεις αντιμετωπίζεις; \n– Τι ονειρεύεσαι; \n– Ποιο ήταν το μεγαλύτερο κίνητρό σου όταν ξεκίνησες; \n– Ποιο είναι τώρα; Παραμένει το ίδιο ή άλλαξε; \nΑΠΟΦΟΙΤΗΣΗ \nΌπως κάθε χρόνο οι νεοεισερχόμενοι/ες στην κοινότητά μας\, certified coaches πλέον\, θα παραλάβουν τα διπλώματά τους\, θα συγκινηθούμε μαζί τους\, θα νοιώσουμε υπερηφάνεια και φυσικά στο τέλος\, \nΓΙΟΡΤΗ \nθα γιορτάσουμε όλοι μαζί με το κρασάκι μας τις κάθε φορά μαγικές και πολύτιμες συνευρέσεις μας\, με τους συμμαθητές μας\, τους φίλους μας\, την απίστευτη VIP κοινότητά μας και τις επιτυχίες μας.[/vc_column_text][vc_column_text] \nΣυμμετοχή\nΗ VIP κοινότητά μας: Απόφοιτοι\, Μαθητές\, Καθηγητές\, Μέντορες. ΔΩΡΕΑΝ \nΟι φίλοι μας: 35 ευρώ (συμπεριλαμβάνεται ΦΠΑ) \nΣτη συμμετοχή αυτή συμπεριλαμβάνονται \n\nΗ δια ζώσης παρακολούθηση και συμμετοχή στη συζήτηση στις ροτόντες\nΤο κοκτέιλ πάρτι\nΕΝΑ ΥΠΕΡΟΧΟ ΔΩΡΟ! Το ημερολόγιο του Coach: Αναστοχασμοί\, δες το ΕΔΩ\n\nΚατάθεση στον παρακάτω λογαριασμό ή επιτόπου \nALPHA Bank\nIBAN GR69 0140 9840 9840 0200 2008 116 \nΟΝΟΜΑΤΕΠΩΝΥΜΟ ΚΑΤΟΧΟΥ\nΒΑΡΒΑΡΑ ΧΑΡ ΑΣΗΜΑΚΟΠΟΥΛΟΥ \nΘα παραλάβετε το νόμιμο παραστατικό\, απόδειξη ή τιμολόγιο ηλεκτρονικά ή στην είσοδο. \nΗ μερική παρακολούθηση της εκδήλωσης ONLINE είναι δωρεάν (μόνο τις ατομικές παρουσιάσεις μπορείτε να παρακολουθήσετε\, δεν μπορείτε να παρακολουθήσετε τα πάνελ και να συμμετέχετε στις συζητήσεις στις ροτόντες) θα σας σταλεί zoom link.  \n[/vc_column_text][vc_empty_space][vc_empty_space][/vc_column][/vc_row][vc_row][vc_column]\n	\n		\n							\n[/vc_column][/vc_row][vc_row][vc_column width=”1/2″][vc_single_image image=”10078″ img_size=”1414×2000″ alignment=”center”][vc_empty_space][/vc_column][vc_column width=”1/2″][vc_single_image image=”10080″ img_size=”1414×2000″][vc_empty_space][/vc_column][/vc_row][vc_row][vc_column][vc_empty_space][vc_column_text] \n“Αν η ζωή μου ήταν βιβλίο” θα είχε τίτλο\nCSTP GRADUATES – Προσωπικές Ιστορίες\n[/vc_column_text][vc_empty_space]\n    \n        	            \n                                                                    \n            \n    \n                    Panos Malakoudis\, ACC\, EIA\, MGSCC\n        		            L&D Leader Microsoft | ICF UK Board Member | ICF Associate Certified Coach & CSTP 6 graduate \n        		    \n\n    \n        	            \n                                                                    \n            \n    \n                    Ersi Stefanou\, ACC\n        		            Talent Director @ Neurosoft | ICF Associate Certified Coach & CSTP 5 Graduate \n        		    \n\n    \n        	            \n                                                                    \n            \n    \n                    Efie Christou\, ACC\n        		            English Teacher | ICF Associate Certified Coach For Teenagers'/ Adults'/Leaders' personal development and wellbeing | CSTP 1 Graduate \n        		    \n\n    \n        	            \n                                                                    \n            \n    \n                    Maria A. Karakosta\n        		            Purpose and Relationship Coach | Founder Life Loves You | Certified Coach CSTP 2 Graduate \n        		    \n\n    \n        	            \n                                                                    \n            \n    \n                    Roy Filou\n        		            Head of Marketing at Nestlé Health Science | Certified Coach CSTP 2 Graduate \n        		    \n\n    \n        	            \n                                                                    \n            \n    \n                    Claire Venetsanakou\, ACC\n        		            Founder of Claire Venet Coaching for Leadership Success | Co-Founder of Integrative Presence | ICF Associate Certified Coach CSTP 1 Graduate \n        		    \n\n    \n        	            \n                                                                    \n            \n    \n                    Maria Hatziaggelidi\, ΑCC\n        		            Personal Development & Business Coach for Small Companies | between 15 Best Coaches 2023 in Athens | ICF Associate Certified Coach | Faculty CSTP \n        		    \n[vc_empty_space][vc_empty_space][vc_column_text] \nTo Know Us Better “The five senses of the Coach”\n[/vc_column_text]\n    \n        	            \n                                                                    \n            \n    \n                    Elina Dermou\n        		            People & Culture Strategist Hatzi Filax Group| Certified Coach CSTP 4 Graduate \n        		    \n\n    \n        	            \n                                                                    \n            \n    \n                    Anna G. Kirikou\n        		            MBA\, Operations & Marketing George Kirikos & Co | Certified Coach CSTP 4 Graduate | CSTP Alumni Ambassador \n        		    \n[vc_column_text] \n“Boldness & Beauty“ My Life‘s Book Title\n[/vc_column_text]\n    \n        	            \n                                                                    \n            \n    \n                    Dr. Tünde Erdös\, MCC\n        		            ICF Global Impact Award 2023 | ICF Master Certified Coach | EMCC Senior Practitioner | Coaching The Relational Way: Goodbye Masterplan! Hello Complexity I Owner at Integrative Presence | Academic Board CSTP \n        		    \n[vc_column_text] \n“Making the Ιnvisible Visible” The Transformative Coaching Process – Dialogue\n[/vc_column_text]\n    \n        	            \n                                                                    \n            \n    \n                    Kosmas Michail\, PCC\n        		            Business Consulting | Coaching | ICF Professional Certified Coach | Faculty CSTP \n        		    \n[vc_column_text] \n“Inner Touch”\n[/vc_column_text]\n    \n        	            \n                                                                    \n            \n    \n                    Olga Papatriantafillou\n        		            Founder of Mindfulness Institute | M.B.S.R teacher | Coach | Psychotherapist | Faculty CSTP \n        		    \n[vc_column_text] \n“Unforgettable”: How to share your uniqueness and mesmerize the audience\n[/vc_column_text]\n    \n        	            \n                                                                    \n            \n    \n                    Barbara Asimakopoulou\, PCC\n        		            Top Executive & Team Coach | ICF Professional Certified Coach & EMCC ITCA | Founder CSTP and CEO HRE \n        		    \n[vc_column_text] \nThe ICF Professional Coach\n[/vc_column_text]\n    \n        	            \n                                                                    \n            \n    \n                    Evgenia Gouvatsou\, ACC\n        		            President of ICF Greece Charter Chapter 2023 \n        		    \n[vc_column_text] \n“How Coaching Training Changed My Life & Career”\nTHE CSTP 7 GRADUATES’ PANEL\n[/vc_column_text][vc_single_image image=”10061″ img_size=”2000 x 1600″ alignment=”center” title=”Coaching Skills & Tools in Practice\, Level 1 by ICF\, No 7″][/vc_column][/vc_row][vc_column][vc_column_text][/vc_column_text][/vc_column][vc_empty_space][vc_empty_space][vc_empty_space][vc_empty_space][vc_empty_space][vc_empty_space][vc_column_text] \nΔΙΑ ΖΩΣΗΣ & ΜΕΡΙΚΗ ΠΑΡΑΚΟΛΟΥΘΗΣΗ ONLINE \n5.00 – 10.00 μμ \nDomotel Kastri\, \nΕκάλη\, Αθήνα \nH εκδήλωση δεν θα είναι live streaming\,  γι’ αυτό on line μπορείτε να παρακολουθήσετε μέσω zoom μόνο τις ατομικές παρουσιάσεις. \nΜε την εγγραφή σας θα παραλάβετε το zoom link \n[/vc_column_text][vc_column_text][/vc_column_text]\n    ΔΗΛΩΣΕ ΣΥΜΜΕΤΟΧΗ ΕΔΩ\n    [vc_row][vc_column][vc_empty_space][vc_empty_space]\n	\n		\n							\n[/vc_column][/vc_row][vc_row][vc_column][/vc_column][/vc_row][vc_row][vc_column][/vc_column][/vc_row][vc_row][vc_column][/vc_column][/vc_row][vc_row][vc_column]\n    \n                \n                                            \n        \n    \n                    \n                            \n                        Δήλωσε συμμετοχή\n                            \n                        \n                    \n[/vc_column][/vc_row][vc_row][vc_column][/vc_column][/vc_row][vc_row][vc_column][/vc_column][/vc_row]
URL:https://www.barbaraasimakopoulou.com/el/event/coach-now-in-house-2023-share-your-story/
LOCATION:DOMOTEL ΚΑΣΤΡΙ\, Ελ. Βενιζέλου 154 & Ρωμυλίας\, Καστρί\, Εκάλη\, Αθήνα\, 146 71\, Greece
CATEGORIES:coaching,Coaching Education,event in home page
ATTACH;FMTTYPE=image/png:https://cdn.barbaraasimakopoulou.com/uploads/2023/10/share-your-story-event-1-st-page-1.png
ORGANIZER;CN="Human Resources Expertise":MAILTO:info@hre.gr
END:VEVENT
END:VCALENDAR