BEGIN:VCALENDAR
VERSION:2.0
PRODID:-//Barbara Asimakopoulou - ECPv6.2.8.1//NONSGML v1.0//EN
CALSCALE:GREGORIAN
METHOD:PUBLISH
X-WR-CALNAME:Barbara Asimakopoulou
X-ORIGINAL-URL:https://www.barbaraasimakopoulou.com/el/
X-WR-CALDESC:Events for Barbara Asimakopoulou
REFRESH-INTERVAL;VALUE=DURATION:PT1H
X-Robots-Tag:noindex
X-PUBLISHED-TTL:PT1H
BEGIN:VTIMEZONE
TZID:Europe/Athens
BEGIN:DAYLIGHT
TZOFFSETFROM:+0200
TZOFFSETTO:+0300
TZNAME:EEST
DTSTART:20240331T010000
END:DAYLIGHT
BEGIN:STANDARD
TZOFFSETFROM:+0300
TZOFFSETTO:+0200
TZNAME:EET
DTSTART:20241027T010000
END:STANDARD
END:VTIMEZONE
BEGIN:VEVENT
DTSTART;TZID=Europe/Athens:20240401T090000
DTEND;TZID=Europe/Athens:20240626T210000
DTSTAMP:20260424T021841
CREATED:20240417T161207Z
LAST-MODIFIED:20240522T170047Z
UID:10430-1711962000-1719435600@www.barbaraasimakopoulou.com
SUMMARY:YOUR TIME OF POWER 2024 - Το Coaching για τους νέους
DESCRIPTION:[vc_row][vc_column][vc_column_text] \n\n    Book Here\n     \n[/vc_column_text][vc_empty_space][vc_column_text] \nΕΘΕΛΟΝΤΙΚΗ ΔΡΑΣΗ COACHING\nΤο Coaching για τους νέους!\nYour Time of Power 2024\nΜάιος – Ιούνιος 2024\nΣτο πλαίσιο της Διεθνούς Εβδομάδας Coaching (ICW) 13 – 19/5/2024\nΗ ώρα της Δύναμής σου ξεκινά τώρα!\nΠρόσφατη έρευνα μεταξύ των νέων 18-30 ετών που παρουσιάσθηκε στο 1o συνέδριο της MKO Humannera αποκάλυψε ότι η πρώτη ανησυχία μεταξύ των νέων είναι η ανασφάλεια για το πως θα εξελιχθεί η καριέρα τους και η προσωπική τους ζωή στο μέλλον και αν θα καταφέρουν να πετύχουν τα όνειρά τους. \nΟι νέοι αυτοί\, είναι φίλοι\, συνάδελφοι\, συνεργάτες\, συγγενείς\, παιδιά μας\, αδέρφια μας. Το ενδιαφέρον μας είναι εύλογο στη θέση που βρισκόμαστε ως επαγγελματίες ή εκπαιδευόμενοι coaches. \nΜπορούμε να τους βοηθήσουμε να αναγνωρίσουν τον εαυτό τους\, τις επιθυμίες και δυνατότητές τους\, να ξεκαθαρίσουν τα όνειρά τους\, να τους ενθαρρύνουμε να μιλήσουν γι αυτά\,  να τα διεκδικήσουν και να κάνουν το πρώτο βήμα προς αυτά. \nΓια 5η συνεχόμενη χρονιά\, η πρωτοβουλία “YOUR TIME OF POWER” (YOURTOP) προσφέρει μια εθελοντική\, πρωτότυπη δράση Coaching\, αυτή τη φορά με αποδέκτες τους/τις νέους/ες μεταξύ 18-30 ετών.  \nΕίμαστε μια ομάδα 15 εθελοντών επαγγελματιών Coaches και Coach ηγετών\, που ενώνουμε για ακόμη μια φορά τις δυνάμεις μας με σκοπό να στηρίξουμε τους νέους να ενεργοποιηθούν\, να βρούν τον ρόλο τους στην κοινωνία και να σχεδιάσουν τα επόμενα βήματα τους. Στόχος είναι να ακούσουμε τις ανησυχίες και τους προβληματισμούς τους μέσω μιας στοχευμένης έρευνας για τις εμπειρίες και προκλήσεις στις δικές τους αναζητήσεις και να ενδυναμώσουμε εκείνους/νες που θα επιλέξουν να δοκιμάσουν την εμπειρία του διαδικτυακού Coaching. \nΣτη συνέχεια\, με τα αποτελέσματα της έρευνας και την εμπειρία από τις Coaching συνεδρίες\, θα διοργανωθεί αποκλειστικά για τους νέους ένα ιδιαίτερο Workshop όπου θα λάβουν περισσότερη γνώση για το Coaching και τα οφέλη του\, σε σχέση με τις προκλήσεις που αντιμετωπίζουν και τα όνειρά τους για τα οποία μίλησαν σε ένα ασφαλές και ενθαρρυντικό περιβάλλον που τους προσέφεραν οι εθελοντές coaches. \n\nYOUR TIME OF POWER 2024 – ΧΡΟΝΟΔΙΑΓΡΑΜΜΑ ΔΡΑΣΕΩΝ \n• 15 Απριλίου 2024: Ξεκινάμε με την προβολή του έργου\, την αποστολή προσκλήσεων συμμετοχής και καλούμε τους νέους να συμμετέχουν στην έρευνα και τις 2 ατομικές coaching συνεδρίες.\n• 1η Μαίου – 26 Ιουνίου 2024: Ο Μάιος με τη “Διεθνή Εβδομάδα Coaching” μεταμορφώνεται σε πηγή εμπνεύσεων και επιτυχίας\, με τη διεξαγωγή coaching συνεδριών! \n• 18 Ιουνίου 2024: Πραγματοποίηση Workshop για τους συμμετέχοντες νέους/ες! \nΤο εθελοντικό έργο “YOUR TIME OF POWER” είναι ο καρπός του πάθους της κοινότητας των VIP Coaches και Coach Ηγετών από την Ελλάδα και όλο τον κόσμο. Με ενθουσιασμό\, συνδυάζουμε τα κοινά μας οράματα και στόχους για πρόοδο\, ευτυχία\, προσωπική και επαγγελματική ανάπτυξη. Ακολουθούμε τα όνειρά μας\, ξεπερνάμε τα εμπόδια και δημιουργούμε θετική αλλαγή\, ανεξαρτήτως τόπου και καταγωγής. \nΗ κοινότητά μας απαρτίζεται από σπουδαστές\, αποφοίτους και καθηγητές του διαπιστευμένου από την International Coaching Federation-ICF προγράμματος “Coaching Δεξιότητες & Εργαλεία στην Πράξη“. \nΤο YOUR TIME OF POWER γιορτάζει 5 χρόνια επιτυχημένης δράσης! Η αρχή έγινε το 2020\, κατά τη «Διεθνή Εβδομάδα Coaching»\, όπου στηρίξαμε τους τομείς της ελληνικής κοινωνίας και οικονομίας που αγωνίζονταν. Εκείνη τη χρονιά\, παρείχαμε δωρεάν συνεδρίες Coaching στους επιχειρηματίες και τους επαγγελματίες της υγείας\, αντιμετωπίζοντας τις προκλήσεις της πανδημίας. Το 2021\, στραφήκαμε προς τους Εκπαιδευτικούς των νησιών του Αιγαίου και της Κρήτης\, ενώ το 2022 & 2023\, προσανατολιστήκαμε προς τους Έλληνες Εξωτερικού\, κίνηση που αποτέλεσε την αφετηρία ενός κύματος αλληλεγγύης για τη δημιουργία γέφυρας των απανταχού Ελλήνων! \nΠΡΟΣΚΛΗΣΗ ΠΡΟΣ ΤΟΥΣ ΝΕΟΥΣ ΚΑΙ ΝΕΕΣ 18-30 ΕΤΩΝ ΣΕ ΟΛΟ ΤΟΝ ΚΟΣΜΟ!\n\nΕίσαι ένα/μία ανήσυχος/η και φιλόδοξος/η νέος/α μεταξύ 18-30 ετών;  \n\nΆδραξε αυτή την ευκαιρία να ανακαλύψεις με τη βοήθεια ενός εκπαιδευμένου και έμπειρου coach ζωής και εργασίας ποιος/α πραγματικά είσαι\, τι είναι καλύτερο για την καριέρα σου\, τη ζωή σου και πώς να το κατακτήσεις.\n\nΕμπιστεύσου την εμπειρία των ειδικών και αποκάλυψε τις δυνατότητες που κρύβονται μέσα σου. Μέσα από τις 2 δωρεάν coaching συνεδρίες που σου προσφέρουμε θα ξεκαθαρίσεις ό\,τι σε μπερδεύει και θα κάνεις ένα ευεργετικό βήμα προς ό\,τι επιθυμείς και ονειρεύεσαι.\n\nΔεν υπάρχει λόγος να περιμένεις!\n\nΣυμπλήρωσε τη φόρμα και ξεκίνα το μαγευτικό ταξίδι προς την την αυτογνωσία και επιτυχία!\n \n\nΤο Your Time of Power είναι η εθελοντική δράση  που προσφέρεται  από την κοινότητα των VIP Coaches και Ηγετών δηλαδή των φοιτητών των αποφοίτων και των  καθηγητών του διαπιστευμένου από ICF Global εκπαιδευτικού προγράμματος “Coaching Δεξιότητες & Εργαλεία στην Πράξη“ με σκοπό\n\n\nτην υποστήριξη συγκεκριμένης κοινωνικής ομάδας\, διαφορετικής συνήθως κάθε χρόνο\,\nτην προβολή και προώθηση στην κοινωνία των ωφελημάτων του coaching\n\n\n\n \nΑν επιθυμείς κάποια παραπάνω πληροφορία\nΑννα Κηρύκου\, Alumni Ambassador & YTOP Facilitator\, 6948 003 104\nή\nΒαρβάρα Ασημακοπούλου\, Global Coaching Education Leader and CEO HRE\, 6937 444 118\nΦΟΡΜΑ ΣΥΜΜΕΤΟΧΗΣ ΣΤΙΣ ΔΩΡΕΑΝ ΣΥΝΕΔΡΙΕΣ\nΣε προσκαλούμε να απαντήσεις στις προαιρετικές ερωτήσεις της έρευνας για σε γνωρίσουμε περισσότερο και να προετοιμαστούμε για τις ατομικές coaching συνεδρίες που θα σου προσφέρουμε (2 συνεδρίες Χ 45 λεπτά η κάθε μία). \nΣτόχος αυτής της διαδικασίας είναι να σε βοηθήσουμε να βρείς τις λύσεις στα ζητήματα που σε απασχολούν και να επιτύχεις τους προσωπικούς και επαγγελματικούς σου στόχους μέσω της συνεργασίας με έναν σωστά εκπαιδευμένο και αξιόπιστο Coach. \nΤο coaching είναι μια δυναμική διαλεκτική συνεργασία που σε βοηθά να ανακαλύψεις ο/η ίδιος/α τη λύση διότι εσύ γνωρίζεις καλύτερα. \n Δεν είναι εκπαίδευση\, ψυχοθεραπεία ή συμβουλευτική. \nΠΡΟΣΚΛΗΣΗ ΠΡΟΣ ΤΟΥΣ ΥΠΟΣΤΗΡΙΚΤΕΣ ΕΠΙΚΟΙΝΩΝΙΑΣ\nΓια να διαδώσουμε αυτό το σημαντικό έργο\, αναζητούμε ενθουσιώδεις συνεργάτες από τα ΜΜΕ\, διαδικτυακές πλατφόρμες\, φοιτητικούς ή άλλους συλλόγους με πρόσβαση σε νέους και κάθε άλλο φορέα που εμπνέεται από αυτήν την πρωτοβουλία και έχει τη δυνατότητα να προωθήσει τη δράση. \nΓια περισσότερες πληροφορίες και συμμετοχές\, επικοινωνήστε με τη κα. Βαρβάρα Ασημακοπούλου: +30 210 8160255\, +30 6937 444 118 ή στείλτε email στο ba@hre.gr. \nΑποκτήστε την ευκαιρία να συμβάλλετε σε αυτήν την αξιόλογη πρωτοβουλία!\n[/vc_column_text][vc_column_text] \nΟΙ ΟΜΑΔΑ ΤΩΝ ΕΘΕΛΟΝΤΩΝ COACHES\n[/vc_column_text]\n	\n		\n			\n	\n		\n							\n	                						                    \n	                				\n								\n		\n							Άννα Κηρύκου\n										ICF Associate Certified Coach (ACC) & ACSTH CSTP 4\, Greece \n										MBA\, Operations & Marketing | Detail-oriented with the ability to look at the bigger picture \n					\n	\n\n	\n		\n							\n	                						                    \n	                				\n								\n		\n							Βαρβάρα Ασημακοπούλου\n										Inner and Outer Leadership Coach\, Initiator of ``Your Time of Power``\, Greece \n										Executive & Team Coach\, ICF PCC\, EMCC ITCA\, M.Goldsmith\, Founder & CEO HRE\, & Director of CSTP \n					\n	\n\n	\n		\n							\n	                						                    \n	                				\n								\n		\n							Εφη Χρήστου\n										ICF Associate Certified Coach (ACC) & ACSTH Coach CSTP 1\, Greece \n										Youth coaching | Life Vision & Enhancement | English Teacher \n					\n	\n\n	\n		\n							\n	                						                    \n	                				\n								\n		\n							Ρόη Φίλου\n										ICF ACSTH Certified Coach CSTP 2\, Greece \n										Head of Marketing at Nestlé Health Science \n					\n	\n\n	\n		\n							\n	                						                    \n	                				\n								\n		\n							Πωλίνα Αγγελή\n										ICF Level1 Certified Coach CSTP 7\, Greece \n										Business Coach | Founder of EasyMind Consulting \n					\n	\n\n	\n		\n							\n	                						                    \n	                				\n								\n		\n							Ελευθερία Ραϊση\n										ICF Level 1 Coach-in-Traning CSTP 8\, Switzerland \n										Commercial Executive | Operational Marketing | Customer Service | Sales | Cosmetics & Luxury Goods | Travel Retail & Local Markets Chanel \n					\n	\n\n	\n		\n							\n	                						                    \n	                				\n								\n		\n							Ευθυμία Γκουντενούδη\n										ICF ACSTH Certified Coach CSTP 6\, Greece \n										Personal Life Coach. Η αυτο-έκφραση δεν είναι αυτονόητη \n					\n	\n\n	\n		\n							\n	                						                    \n	                				\n								\n		\n							Κοσμάς Μιχαήλ\n										ICF Professional Certified Coach (PCC)\, Greece \n										Coaching Culture and Business Consulting. Educator & Mentor in CSTP - Neuroscience \n					\n	\n\n	\n		\n							\n	                						                    \n	                				\n								\n		\n							Εύα Παγκάλου\n										ICF level 1 Coach in Training CSTP 8\, Greece \n										Business Consultant | Certified Adults’ Trainer | Founder at Business Lab | Economist MBA \n					\n	\n\n	\n		\n							\n	                						                    \n	                				\n								\n		\n							Ευθύμιος Μακρής\n										ICF Level 1 Coach-in-Training CSTP 8\, Germany \n										Senior Accountant-Analyst | CIMA Cert BA | P.Q. Professional Accountant \n					\n	\n\n	\n		\n							\n	                						                    \n	                				\n								\n		\n							Πάνος Μαλακούδης\n										ICF Associate Certified Coach (ACC) & CSTP 6\, UK \n										Marshall Goldsmith\, EMCC\, Leadership Development Microsoft | ICF UK Board Member | Speaker | Founder \n					\n	\n\n	\n		\n							\n	                						                    \n	                				\n								\n		\n							Πρόδρομος Παπαβασιλείου\n										ICF ACSTH Certified Coach CSTP 6\, Greece \n										Corporate Culture Change Catalyst |- C-Suite & CEO Leadership Coach | President of the Board Managenent Force | Managing Partner HRE \n					\n	\n\n	\n		\n							\n	                						                    \n	                				\n								\n		\n							Αλεξάνδρα Κατσαφάρου\n										ICF Level 1 Coach in Training CSTP 8\, Greece \n										Sales Executive in IT Industry \n					\n	\n[vc_column_text] \nΕθελοντές Coaches υποστήριξης\n\nΕιρήνη Φραγκίσκου\, Coach in training Level 1 CSTP 8\nΓεωργία Αγγελίδη\, Certified Coach Level 1 CSTP 7\n\n[/vc_column_text][vc_empty_space][vc_video link=”https://youtu.be/RIe_-TUZqqE” align=”center” title=”Το μήνυμά μας”]		\n	\n[/vc_column][/vc_row][vc_row][vc_column][vc_column_text] \nΟΡΓΑΝΩΤΗΣ\nHuman Resources Expertise\n“Coaching Skills & Tools in Practice” Training Program accredited by ICF \nΤο εθελοντικό έργο “YOUR TIME OF POWER” (Η ώρα της Δύναμής σου) είναι μια πρωτοβουλία της ενεργούς κοινότητας των VIP Coaches και Coach Ηγετών (στην Ελλάδα και αλλού). Η κοινότητα αυτή περιλαμβάνει τους σπουδαστές\, αποφοίτους και καθηγητές του διαπιστευμένου από την International Coaching Federation-ICF προγράμματος “Coaching Δεξιότητες & Εργαλεία στην Πράξη“.  \n\n[/vc_column_text]\n	\n		\n						\n					\n						\n						\n[vc_column_text] \nΥΠΟΣΤΗΡΙΚΤΕΣ ΕΠΙΚΟΙΝΩΝΙΑΣ\nSkywalker – Stentoras\, vwoman\, voria\n[/vc_column_text][vc_empty_space]\n	\n		\n						\n							\n			\n						\n							\n			\n						\n							\n				\n[/vc_column][/vc_row][vc_row][vc_column][vc_empty_space][vc_empty_space][vc_column_text][/vc_column_text]\n    ΔΗΛΩΣΕ ΣΥΜΜΕΤΟΧΗ ΣΤΙΣ ΔΩΡΕΑΝ ΣΥΝΕΔΡΙΕΣ ΕΔΩ\n    [/vc_column][/vc_row][vc_row][vc_column][/vc_column][/vc_row][vc_row][vc_column][/vc_column][/vc_row][vc_row][vc_column][/vc_column][/vc_row]
URL:https://www.barbaraasimakopoulou.com/el/event/your-time-of-power-2024-to-coaching-gia-tous-neous/
LOCATION:ZOOM\, Zoom\, Greece
CATEGORIES:coaching,event in home page
ATTACH;FMTTYPE=image/png:https://cdn.barbaraasimakopoulou.com/uploads/2024/04/YOUR-TIME-OF-POWER-2024-event-site-COVER-1920-x-1220-px.png
ORGANIZER;CN="Human Resources Expertise":MAILTO:info@hre.gr
END:VEVENT
END:VCALENDAR